DSET ^gCorv4.201711230801.bin
OPTIONS YREV
*
UNDEF 0
*
TITLE Classificacao de imagens GOES
*
XDEF 1800 LINEAR -100.0 0.04
YDEF 1800 LINEAR -50.0 0.04
ZDEF 1 LINEAR 1 1
TDEF 1 LINEAR 08:01Z23NOV2017 15mn
VARS 1
CLAS 0 -1,40,1,1 Classe (adim)
ENDVARS
