<?xml version="1.0" encoding="utf-8"?>
	<TileMap version="1.0.0" tilemapservice="http://tms.osgeo.org/1.0.0">
	  <Title>temp_ref.png</Title>
	  <Abstract></Abstract>
	  <SRS></SRS>
	  <BoundingBox minx="21696.00000000000000" miny="0.00000000000000" maxx="0.00000000000000" maxy="21696.00000000000000"/>
	  <Origin x="21696.00000000000000" y="0.00000000000000"/>
	  <TileFormat width="256" height="256" mime-type="image/png" extension="png"/>
	  <TileSets profile="raster">
		<TileSet href="7" units-per-pixel="1.00000000000000" order="7"/>
	  </TileSets>
	</TileMap>
	