dset ^GL_SM.GPNR.2021082700.gra
options sequential
undef -1
title SOIL MOISTURE output
xdef 1440 linear        -179.875          0.250
ydef  720 linear         -89.875          0.250
zdef 8 levels -3.25  -2.125 -1.375  -0.75 -0.375 -0.19 -0.09 -0.025
tdef    1 linear 00:00Z27aug2021  1dy
vars    2
us         8   99 umid do solo  [mm^3/mm^3]
rr         0   99 precipitacao  [mm]
endvars
