dset ^MERGE_CPTEC_2021031414.grib2
index ^MERGE_CPTEC_2021031414.idx
undef  -9999.900  
title  MERGE GENERATED FROM GPM-IMERG-late
dtype grib2
tdef 1 linear 14Z14Mar2021 1hr
XDEF 493 LINEAR  -82.15 0.1 
YDEF 701 LINEAR  -56.95 0.1 
zdef 1 linear 1 1
vars 2
PREC  0,1   0,15,5 ** Surface Precipitation [mm/hr]
NEST  0,1   0,3,1 **  Number of Stations /  Grid Point 
ENDVARS
