DSET ^TOPO20180913122018092812.TQ0126L028.bin
*
OPTIONS SEQUENTIAL BIG_ENDIAN
*
UNDEF -2.560E+33
*
TITLE PROBABILITIES FROM ENS CPTEC FOR TOPO TQ0126L028  COLD
*
XDEF      971  LINEAR  1  1
YDEF       15  LINEAR      1.000    1
ZDEF        1  LEVELS 1000
TDEF     360 LINEAR 13Z13SEP2018  1HR
*
VARS  1
TOPO   0 99 MEMBERS
ENDVARS
