DSET ^clim_temp_inmet20191112002019111900
*
OPTIONS TEMPLATE
*
UNDEF 777.7
*
TITLE INTERPOLACAO
*
XDEF 176 LINEAR -76 .25
YDEF 160 LINEAR -34 .25
ZDEF 1 LINEAR 1 1
TDEF 1 LINEAR 00Z19NOV2019 1DY
*
VARS 1
TMED 0 99 TEMPERATURA MEDIA (C)
ENDVARS
