DSET ^clim_temp_inmet20200313122020032712
*
OPTIONS TEMPLATE
*
UNDEF 777.7
*
TITLE INTERPOLACAO
*
XDEF 176 LINEAR -76 .25
YDEF 160 LINEAR -34 .25
ZDEF 1 LINEAR 1 1
TDEF 1 LINEAR 12Z27MAR2020 1DY
*
VARS 1
TMED 0 99 TEMPERATURA MEDIA (C)
ENDVARS
