DSET ^GPRCENM20200327002020041000P.fct.TQ0126L028
*
OPTIONS SEQUENTIAL BIG_ENDIAN YREV
*
UNDEF 9.999E+20
*
TITLE WEEK PREC MEAN FROM ENS CPTEC AGCM v3.0 1999 TQ0126L028 COLD
*
XDEF 384 LINEAR 0.000000 0.937500
YDEF 192 LEVELS -89.28369 -88.35693 -87.42383 -86.49023 -85.55566 -84.62109 -83.68652 -82.75146 -81.81641 -80.88183 -79.94677 -79.01171 -78.07664 -77.14159 -76.20653 -75.27196 -74.33691 -73.40185 -72.46679 -71.53174 -70.59668 -69.66162 -68.72656 -67.79151 -66.85645 -65.92139 -64.98634 -64.05128 -63.11623 -62.18117 -61.24611 -60.31105 -59.37598 -58.44092 -57.50586 -56.57080 -55.63573 -54.70067 -53.76561 -52.83054 -51.89548 -50.96041 -50.02535 -49.09029 -48.15523 -47.22017 -46.28510 -45.35004 -44.41497 -43.47991 -42.54485 -41.60979 -40.67472 -39.73966 -38.80460 -37.86953 -36.93447 -35.99941 -35.06434 -34.12928 -33.19422 -32.25917 -31.32412 -30.38908 -29.45403 -28.51899 -27.58394 -26.64889 -25.71384 -24.77880 -23.84376 -22.90871 -21.97366 -21.03862 -20.10357 -19.16853 -18.23347 -17.29843 -16.36339 -15.42834 -14.49329 -13.55825 -12.62320 -11.68816 -10.75311 -9.81806 -8.88302 -7.94798 -7.01292 -6.07788 -5.14284 -4.20731 -3.27225 -2.33721 -1.40217 -0.46712 0.46712 1.40217 2.33721 3.27225 4.20731 5.14284 6.07788 7.01292 7.94798 8.88302 9.81806 10.75311 11.68816 12.62320 13.55825 14.49329 15.42834 16.36339 17.29843 18.23347 19.16853 20.10357 21.03862 21.97366 22.90871 23.84376 24.77880 25.71384 26.64889 27.58394 28.51899 29.45403 30.38908 31.32412 32.25917 33.19422 34.12928 35.06434 35.99941 36.93447 37.86953 38.80460 39.73966 40.67472 41.60979 42.54485 43.47991 44.41497 45.35004 46.28510 47.22017 48.15523 49.09029 50.02535 50.96041 51.89548 52.83054 53.76561 54.70067 55.63573 56.57080 57.50586 58.44092 59.37598 60.31105 61.24611 62.18117 63.11623 64.05128 64.98634 65.92139 66.85645 67.79151 68.72656 69.66162 70.59668 71.53174 72.46679 73.40185 74.33691 75.27196 76.20653 77.14159 78.07664 79.01171 79.94677 80.88183 81.81641 82.75146 83.68652 84.62109 85.55566 86.49023 87.42383 88.35693 89.28369
ZDEF 1 LEVELS 1000
TDEF 1 LINEAR 00Z10APR2020 06HR
*
VARS 2
PREC 0 99 WEEK MEAN OF TOTAL PRECIPITATION (Kg M**-2 Day**-1)
TSMT 0 99 WEEK MEAN OF TIME MEAN SURFACE ABSOLUTE TEMPERATURE (K)
ENDVARS
