DSET ^WW_2018111600.dat
*
UNDEF -999.9
*
XDEF 261 LINEAR 311.0000 0.0500
*
YDEF 161 LINEAR -28.0000 0.0500
*
ZDEF 1 LINEAR 1 1
*
TDEF 41 LINEAR 00Z16NOV2018 03hr
*
VARS 32
DW 0 99 water depth (m)
UA 0 99 x-wind sp component (m/s)
UD 0 99 y-wind sp component (m/s)
USTX 0 99 x-fric wind velocity (m/s)
USTY 0 99 y-fric wind velocity (m/s)
HSX 0 99 x-sig height (m)
HSY 0 99 y-sig height (m)
WLM 0 99 avera wave lenght (m)
TMN 0 99 avera period (s)
THS 0 99 directional spread (degree)
TXO 0 99 x-peak freq 1-D sp (Hz)
TYO 0 99 y-peak freq 1-D sps (Hz)
TX1 0 99 x-loWest peak freq (sec)
TY1 0 99 y-loWest peak freq (sec)
WS_HSX 0 99 x-hsig windsea h (m)
WS_HSY 0 99 y-hsig windsea h (m)
WS_TLM 0 99 avera windsea period (s)
WS_WMW 0 99 avera windsea length (s)
WS_THS 0 99 directional spread (deg)
S1_HSX 0 99 x-sig 1-swell height (m )
S1_HSY 0 99 y-sig 1-swell height (m )
S1_TLM 0 99 avera 1-swell period (s )
S1_WMW 0 99 avera 1-swell length (s)
S1_THS 0 99 1-directional spread (deg)
S2_HSX 0 99 x-sig 2-swell height (m )
S2_HSY 0 99 y-sig 2-swell height (m )
S2_TLM 0 99 avera 2-swell period (s )
S2_WMW 0 99 avera 2-swell length (s)
S2_THS 0 99 2-directional spread (deg)
PwsP 0 99 wnd-sea frac of partition (number)
WsfP 0 99 total windsea fraction (number)
PnrP 0 99 number of partition (number)
ENDVARS
