DSET ^ibismsk_doubSSP3_RCP70_new.form
*
OPTIONS BIG_ENDIAN
*
UNDEF -999.0
*
TITLE IBIS Vegetation Mask
*
XDEF 720 LINEAR -179.75 0.5000000000
YDEF 360 LINEAR -89.500 0.5000000000
ZDEF 1 LEVELS 1000
TDEF 1 LINEAR JAN2005 1MO
*
VARS 1
VEGM 0 99 Vegetation Mask [No Dim]
ENDVARS
