dset /lustre_xc50/denis_eiras/ioper_brams5.6/my_external/2021010118/dataout/umid_solo/GFS.SOIL:UMID_TEMP.2021010121.bin
undef -999000000.000000
title UMID_TEMP
xdef 1440 linear 0.0 0.25
ydef 721 linear -90 0.25
zdef 1 linear 1 1
tdef 1 linear 21Z01JAN2021 1dy zdef 1 linear 1 1
vars 8
soilw1	0 99 Volumetric soil moisture content:Proportion (instant):regular_ll:depthBelowLandLayer:levels 0.0-0.1 m
soilw2	0 99 Volumetric soil moisture content:Proportion (instant):regular_ll:depthBelowLandLayer:levels 0.1-0.4 m
soilw3	0 99 Volumetric soil moisture content:Proportion (instant):regular_ll:depthBelowLandLayer:levels 0.4-1.0 m
soilw4	0 99 Volumetric soil moisture content:Proportion (instant):regular_ll:depthBelowLandLayer:levels 1.0-2.0 m
st1	0 99 Soil Temperature:K (instant):regular_ll:depthBelowLandLayer:levels 0.0-0.1 m:fcst time 0 hrs
st2	0 99 Soil Temperature:K (instant):regular_ll:depthBelowLandLayer:levels 0.1-0.4 m:fcst time 0 hrs
st3	0 99 Soil Temperature:K (instant):regular_ll:depthBelowLandLayer:levels 0.4-1.0 m:fcst time 0 hrs
st4	0 99 Soil Temperature:K (instant):regular_ll:depthBelowLandLayer:levels 1.0-2.0 m:fcst time 0 hrs
endvars
