dset ^MONAN_global_v1_2024021900-2024022400-reg.grb
title File
undef 1e+20
dtype grib
index ^MONAN_global_v1_2024021900-2024022400-reg.gmp
xdef 360 linear -180.000000 1.000000
ydef 180 linear -90.000000 1.000000
zdef 5 levels
1000 925 850 500 250 
tdef 1 linear 0Z24feb2024  1mn
vars 6
mslp      0    1,  1,  0,  0 Mean sea-level pressure []
zgeo      5    2,100 Geopotential height interpolated []
temp  5    3,100 Temperature interpolated []
vwnd  5    4,100 Reconstructed meridional wind at cell centers, interpolated []
uwnd    5    5,100 Reconstructed zonal wind at cell centers, interpolated []
Urel    5    6,100 Relative humidity interpolated []
endvars
