dset ^RMSESSIB_20251020002025102900F.scan

options sequential

undef -999.9

xdef  105 linear  277.375    0.500
ydef  123 linear  -49.875    0.500

zdef    1 linear 0 1

tdef    6 linear 00Z20OCT2025  24HR

vars  15
temp850 0 99 absolute temperature @ 850 hpa [k]
temp500 0 99 absolute temperature @ 500 hpa [k]
temp250 0 99 absolute temperature @ 250 hpa [k]
umes925 0 99 specific humidity @ 925 hpa [kg/kg]
umes850 0 99 specific humidity @ 850 hpa [kg/kg]
umes500 0 99 specific humidity @ 500 hpa [kg/kg]
zgeo850 0 99 geopotential height @ 850 hpa [gpm]
zgeo500 0 99 geopotential height @ 500 hpa [gpm]
zgeo250 0 99 geopotential height @ 250 hpa [gpm]
uvel850 0 99 zonal wind @ 850 hpa [m/s]
uvel500 0 99 zonal wind @ 500 hpa [m/s]
uvel250 0 99 zonal wind @ 250 hpa [m/s]
vvel850 0 99 meridional wind @ 850 hpa [m/s]
vvel500 0 99 meridional wind @ 500 hpa [m/s]
vvel250 0 99 meridional wind @  250 hpa [m/s]
endvars
