DSET VGREEN_greta_12mo.dat
options sequential
UNDEF 999.9
TITLE VEG
XDEF 227 LINEAR -180 0.144000
YDEF 351 LINEAR -90 0.144000
ZDEF 1 LINEAR 1 1
TDEF 12 LINEAR 00z01JAN1961 1mo
VARS 1
veg 0 99 Vegetacao
ENDVARS
