DSET ^Eta-CanESM2_CDD.bin
UNDEF -99.9
TITLE 29help Days of Sample Model Output 
XDEF  355 LINEAR  -100.0   0.20
YDEF  390 LINEAR  -50.0   0.20
ZDEF   1 LEVELS 0.00
TDEF   29 LINEAR 00Z01Jan2071 1yrs
VARS  1
CDD  0 99  indice
ENDVARS

