DSET ^RegCM4-7-ERA_CDD.bin
UNDEF -99.9
TITLE 29help Days of Sample Model Output 
xdef 240 linear -90.000000 0.250000
ydef 280 linear -57.000000 0.250000
ZDEF   1 LEVELS 0.00
TDEF   37 LINEAR 00Z01Jan1979 1yrs
VARS  1
CDD  0 99  indice
ENDVARS

