DSET ^RegCM4-7-HadGEM2-ES_DTR.bin
UNDEF -99.9
TITLE 29help Days of Sample Model Output 
XDEF  330 LINEAR  -100.0   0.25
YDEF  360 LINEAR  -70.0   0.25
ZDEF   1 LEVELS 0.00
TDEF   36 LINEAR 00Z01Jan1970 1yrs
VARS  1
DTR  0 99  indice
ENDVARS

