dset ^gfs2gr0.25_2017020700E.0000
options sequential
undef 9.999E+20
xdef 1440 linear 0.000000 0.25
ydef 721 linear -90.000000 0.25
tdef 1 linear 00Z27feb2017 6hr
zdef 26 levels 1000 975 950 925 900 850 800 750 700 650 600 550 500 450 400 350 300 250 200 150 100 70 50 30 20 10 
vars 17
Zprs    26 99  Geopotential (at the surface = orography) m**2 s**-2
Uprs    26 99  U-velocity m s**-1
Vprs    26 99  V-velocity m s**-1
Tprs    26 99  Temperature K
Rprs    26 99  Relative humidity %
LSMsfc   0 99  Surface Land/sea mask (0
MSLsfc   0 99  Surface Mean sea level pressure Pa
SPsfc    0 99  Surface Surface pressure Pa
Zsfc     0 99  Surface Geopotential (at the surface = orography) m**2 s**-2
STdlr    0 99  Surf.temp/soil temp lev 1 (from 930804) K
SWVL1dlr 0 99  Volumetric soil water layer 1 m**3 m**-3
DSTdlr   0 99  Deep soil tmp/soil temp lev2(from 930804) K
SWVL2dlr 0 99  Volumetric soil water layer 2 m**3 m**-3
CDSTdlr  0 99  Clim deep soil tmp/soil tmp lev3(930804) K
SWVL3dlr 0 99  Volumetric soil water layer 3 m**3 m**-3
STL4dlr  0 99  Soil temperature level 4 K
SWVL4dlr 0 99  Volumetric soil water layer 4 m**3 m**-3
ENDVARS
