DSET ^Eta10_E02_2019040100+%y4%m2%d2%h2_SOIL.bin
OPTIONS TEMPLATE
UNDEF 1.e+20
TITLE 29help Days of Sample Model Output
XDEF 1011 LINEAR -94.5868835 0.10
YDEF 710 LINEAR -51.7538490 0.10
ZDEF 1 LEVELS 1020
TDEF 721 LINEAR 00Z01Apr2019 1hr
VARS 16
STL1 0 99 Soil temperature level 1
SWL1 0 99 Volumetric soil water layer 1
STL2 0 99 Soil temperature level 2
SWL2 0 99 Volumetric soil water layer 2
STL3 0 99 Soil temperature level 3
SWL3 0 99 Volumetric soil water layer 3
STL4 0 99 Soil temperature level 4
SWL4 0 99 Volumetric soil water layer 4
STL5 0 99 Soil temperature level 5
SWL5 0 99 Volumetric soil water layer 5
STL6 0 99 Soil temperature level 6
SWL6 0 99 Volumetric soil water layer 6
STL7 0 99 Soil temperature level 7
SWL7 0 99 Volumetric soil water layer 7
STL8 0 99 Soil temperature level 8
SWL8 0 99 Volumetric soil water layer 8
ENDVARS
